BEGIN:VCALENDAR
VERSION:2.0
PRODID:-//Club Parkview - ECPv6.15.16.1//NONSGML v1.0//EN
CALSCALE:GREGORIAN
METHOD:PUBLISH
X-WR-CALNAME:Club Parkview
X-ORIGINAL-URL:https://clubparkview.com.au
X-WR-CALDESC:Events for Club Parkview
REFRESH-INTERVAL;VALUE=DURATION:PT1H
X-Robots-Tag:noindex
X-PUBLISHED-TTL:PT1H
BEGIN:VTIMEZONE
TZID:Australia/Sydney
BEGIN:STANDARD
TZOFFSETFROM:+1100
TZOFFSETTO:+1000
TZNAME:AEST
DTSTART:20250405T160000
END:STANDARD
BEGIN:DAYLIGHT
TZOFFSETFROM:+1000
TZOFFSETTO:+1100
TZNAME:AEDT
DTSTART:20251004T160000
END:DAYLIGHT
BEGIN:STANDARD
TZOFFSETFROM:+1100
TZOFFSETTO:+1000
TZNAME:AEST
DTSTART:20260404T160000
END:STANDARD
BEGIN:DAYLIGHT
TZOFFSETFROM:+1000
TZOFFSETTO:+1100
TZNAME:AEDT
DTSTART:20261003T160000
END:DAYLIGHT
BEGIN:STANDARD
TZOFFSETFROM:+1100
TZOFFSETTO:+1000
TZNAME:AEST
DTSTART:20270403T160000
END:STANDARD
BEGIN:DAYLIGHT
TZOFFSETFROM:+1000
TZOFFSETTO:+1100
TZNAME:AEDT
DTSTART:20271002T160000
END:DAYLIGHT
END:VTIMEZONE
BEGIN:VEVENT
DTSTART;TZID=Australia/Sydney:20260406T120000
DTEND;TZID=Australia/Sydney:20260406T230000
DTSTAMP:20260420T013219
CREATED:20260129T010254Z
LAST-MODIFIED:20260226T033400Z
UID:15776-1775476800-1775516400@clubparkview.com.au
SUMMARY:EASTER BUNNY SURPRISE
DESCRIPTION:
URL:https://clubparkview.com.au/event/easter-bunny-surprise/2026-04-06/
CATEGORIES:Drink,Eat,Gaming
ATTACH;FMTTYPE=image/jpeg:https://clubparkview.com.au/wp-content/uploads/2026/01/EASTER-BUNNY-SUPRISE-GAMiNG-PROMO-WEB-TILE-1080-x-1350-px-380-x-480-px.jpg
END:VEVENT
BEGIN:VEVENT
DTSTART;TZID=Australia/Sydney:20260407T000000
DTEND;TZID=Australia/Sydney:20260407T020000
DTSTAMP:20260420T013219
CREATED:20260402T053107Z
LAST-MODIFIED:20260402T053107Z
UID:16023-1775520000-1775527200@clubparkview.com.au
SUMMARY:MIDNIGHT MULTIPLIER
DESCRIPTION:
URL:https://clubparkview.com.au/event/midnight-multiplier/2026-04-07/
CATEGORIES:Gaming
ATTACH;FMTTYPE=image/jpeg:https://clubparkview.com.au/wp-content/uploads/2026/04/MIDNIGHT-MULTIPLIER-WEB-TILE-380-x-480-px.jpg
END:VEVENT
BEGIN:VEVENT
DTSTART;TZID=Australia/Sydney:20260407T120000
DTEND;TZID=Australia/Sydney:20260407T230000
DTSTAMP:20260420T013219
CREATED:20260129T010254Z
LAST-MODIFIED:20260226T033401Z
UID:15777-1775563200-1775602800@clubparkview.com.au
SUMMARY:EASTER BUNNY SURPRISE
DESCRIPTION:
URL:https://clubparkview.com.au/event/easter-bunny-surprise/2026-04-07/
CATEGORIES:Drink,Eat,Gaming
ATTACH;FMTTYPE=image/jpeg:https://clubparkview.com.au/wp-content/uploads/2026/01/EASTER-BUNNY-SUPRISE-GAMiNG-PROMO-WEB-TILE-1080-x-1350-px-380-x-480-px.jpg
END:VEVENT
BEGIN:VEVENT
DTSTART;TZID=Australia/Sydney:20260408T000000
DTEND;TZID=Australia/Sydney:20260408T020000
DTSTAMP:20260420T013219
CREATED:20260402T053107Z
LAST-MODIFIED:20260402T053107Z
UID:16027-1775606400-1775613600@clubparkview.com.au
SUMMARY:MIDNIGHT MULTIPLIER
DESCRIPTION:
URL:https://clubparkview.com.au/event/midnight-multiplier/2026-04-08/
CATEGORIES:Gaming
ATTACH;FMTTYPE=image/jpeg:https://clubparkview.com.au/wp-content/uploads/2026/04/MIDNIGHT-MULTIPLIER-WEB-TILE-380-x-480-px.jpg
END:VEVENT
BEGIN:VEVENT
DTSTART;TZID=Australia/Sydney:20260408T150000
DTEND;TZID=Australia/Sydney:20260409T170000
DTSTAMP:20260420T013219
CREATED:20260402T062821Z
LAST-MODIFIED:20260402T062821Z
UID:16096-1775660400-1775754000@clubparkview.com.au
SUMMARY:BEAT THE BOWSER
DESCRIPTION:
URL:https://clubparkview.com.au/event/beat-the-bowser/2026-04-08/
CATEGORIES:Drink,Eat,Gaming
ATTACH;FMTTYPE=image/jpeg:https://clubparkview.com.au/wp-content/uploads/2026/04/BEAT-THE-BOWSER-WEB-TILE-380-x-480-px.jpg
END:VEVENT
BEGIN:VEVENT
DTSTART;TZID=Australia/Sydney:20260408T190000
DTEND;TZID=Australia/Sydney:20260408T214000
DTSTAMP:20260420T013219
CREATED:20260330T054433Z
LAST-MODIFIED:20260330T054704Z
UID:15974-1775674800-1775684400@clubparkview.com.au
SUMMARY:$15\,000 MEMBER'S JACKPOT
DESCRIPTION:
URL:https://clubparkview.com.au/event/15000-members-jackpot-4/2026-04-08/
CATEGORIES:Drink,Eat,Gaming
ATTACH;FMTTYPE=image/jpeg:https://clubparkview.com.au/wp-content/uploads/2026/03/MEMBERS-15000-750-GUARANTEED-2026-WEB-TILE-380-x-480-px.jpg
END:VEVENT
BEGIN:VEVENT
DTSTART;TZID=Australia/Sydney:20260408T220000
DTEND;TZID=Australia/Sydney:20260409T000000
DTSTAMP:20260420T013219
CREATED:20251223T230640Z
LAST-MODIFIED:20251223T230640Z
UID:15936-1775685600-1775692800@clubparkview.com.au
SUMMARY:THE BONUS ROUND
DESCRIPTION:
URL:https://clubparkview.com.au/event/the-bonus-round-2/2026-04-08/
CATEGORIES:Gaming
ATTACH;FMTTYPE=image/jpeg:https://clubparkview.com.au/wp-content/uploads/2025/12/THE-BONUS-ROUND-WEB-TILE-380-x-480-px.jpg
END:VEVENT
BEGIN:VEVENT
DTSTART;TZID=Australia/Sydney:20260409T150000
DTEND;TZID=Australia/Sydney:20260410T170000
DTSTAMP:20260420T013219
CREATED:20260402T062821Z
LAST-MODIFIED:20260402T062821Z
UID:16103-1775746800-1775840400@clubparkview.com.au
SUMMARY:BEAT THE BOWSER
DESCRIPTION:
URL:https://clubparkview.com.au/event/beat-the-bowser/2026-04-09/
CATEGORIES:Drink,Eat,Gaming
ATTACH;FMTTYPE=image/jpeg:https://clubparkview.com.au/wp-content/uploads/2026/04/BEAT-THE-BOWSER-WEB-TILE-380-x-480-px.jpg
END:VEVENT
BEGIN:VEVENT
DTSTART;TZID=Australia/Sydney:20260409T183000
DTEND;TZID=Australia/Sydney:20260409T230000
DTSTAMP:20260420T013219
CREATED:20260302T045123Z
LAST-MODIFIED:20260302T045123Z
UID:15816-1775759400-1775775600@clubparkview.com.au
SUMMARY:JACARANDA REWARDS
DESCRIPTION:
URL:https://clubparkview.com.au/event/jacaranda-rewards-3/2026-04-09/
CATEGORIES:Gaming
ATTACH;FMTTYPE=image/jpeg:https://clubparkview.com.au/wp-content/uploads/2026/03/JACARANDA-REWARDS-MARCH-2026-WEB-TILE-380-x-480-px.jpg
END:VEVENT
BEGIN:VEVENT
DTSTART;TZID=Australia/Sydney:20260410T130000
DTEND;TZID=Australia/Sydney:20260410T223000
DTSTAMP:20260420T013219
CREATED:20260402T055427Z
LAST-MODIFIED:20260402T055517Z
UID:16069-1775826000-1775860200@clubparkview.com.au
SUMMARY:AUTUMN HARVEST HAUL
DESCRIPTION:
URL:https://clubparkview.com.au/event/autumn-harvest-haul/2026-04-10/
CATEGORIES:Gaming
ATTACH;FMTTYPE=image/jpeg:https://clubparkview.com.au/wp-content/uploads/2026/04/AUTUMN-HARVEST-HAUL-WEB-TILE-380-x-480-px.jpg
END:VEVENT
BEGIN:VEVENT
DTSTART;TZID=Australia/Sydney:20260411T130000
DTEND;TZID=Australia/Sydney:20260411T223000
DTSTAMP:20260420T013219
CREATED:20260402T055427Z
LAST-MODIFIED:20260402T055517Z
UID:16073-1775912400-1775946600@clubparkview.com.au
SUMMARY:AUTUMN HARVEST HAUL
DESCRIPTION:
URL:https://clubparkview.com.au/event/autumn-harvest-haul/2026-04-11/
CATEGORIES:Gaming
ATTACH;FMTTYPE=image/jpeg:https://clubparkview.com.au/wp-content/uploads/2026/04/AUTUMN-HARVEST-HAUL-WEB-TILE-380-x-480-px.jpg
END:VEVENT
BEGIN:VEVENT
DTSTART;TZID=Australia/Sydney:20260412T123000
DTEND;TZID=Australia/Sydney:20260412T170000
DTSTAMP:20260420T013219
CREATED:20260402T055427Z
LAST-MODIFIED:20260402T055518Z
UID:16074-1775997000-1776013200@clubparkview.com.au
SUMMARY:AUTUMN HARVEST HAUL
DESCRIPTION:
URL:https://clubparkview.com.au/event/autumn-harvest-haul/2026-04-12/
CATEGORIES:Gaming
ATTACH;FMTTYPE=image/jpeg:https://clubparkview.com.au/wp-content/uploads/2026/04/AUTUMN-HARVEST-HAUL-WEB-TILE-380-x-480-px.jpg
END:VEVENT
BEGIN:VEVENT
DTSTART;TZID=Australia/Sydney:20260412T190000
DTEND;TZID=Australia/Sydney:20260412T214000
DTSTAMP:20260420T013219
CREATED:20260330T054433Z
LAST-MODIFIED:20260330T054705Z
UID:15975-1776020400-1776030000@clubparkview.com.au
SUMMARY:$15\,000 MEMBER'S JACKPOT
DESCRIPTION:
URL:https://clubparkview.com.au/event/15000-members-jackpot-4/2026-04-12/
CATEGORIES:Drink,Eat,Gaming
ATTACH;FMTTYPE=image/jpeg:https://clubparkview.com.au/wp-content/uploads/2026/03/MEMBERS-15000-750-GUARANTEED-2026-WEB-TILE-380-x-480-px.jpg
END:VEVENT
BEGIN:VEVENT
DTSTART;TZID=Australia/Sydney:20260412T220000
DTEND;TZID=Australia/Sydney:20260413T000000
DTSTAMP:20260420T013219
CREATED:20251223T230640Z
LAST-MODIFIED:20251223T230640Z
UID:15937-1776031200-1776038400@clubparkview.com.au
SUMMARY:THE BONUS ROUND
DESCRIPTION:
URL:https://clubparkview.com.au/event/the-bonus-round-2/2026-04-12/
CATEGORIES:Gaming
ATTACH;FMTTYPE=image/jpeg:https://clubparkview.com.au/wp-content/uploads/2025/12/THE-BONUS-ROUND-WEB-TILE-380-x-480-px.jpg
END:VEVENT
END:VCALENDAR