BEGIN:VCALENDAR
VERSION:2.0
PRODID:-//Club Parkview - ECPv6.15.16.1//NONSGML v1.0//EN
CALSCALE:GREGORIAN
METHOD:PUBLISH
X-ORIGINAL-URL:https://clubparkview.com.au
X-WR-CALDESC:Events for Club Parkview
REFRESH-INTERVAL;VALUE=DURATION:PT1H
X-Robots-Tag:noindex
X-PUBLISHED-TTL:PT1H
BEGIN:VTIMEZONE
TZID:Australia/Sydney
BEGIN:STANDARD
TZOFFSETFROM:+1100
TZOFFSETTO:+1000
TZNAME:AEST
DTSTART:20240406T160000
END:STANDARD
BEGIN:DAYLIGHT
TZOFFSETFROM:+1000
TZOFFSETTO:+1100
TZNAME:AEDT
DTSTART:20241005T160000
END:DAYLIGHT
BEGIN:STANDARD
TZOFFSETFROM:+1100
TZOFFSETTO:+1000
TZNAME:AEST
DTSTART:20250405T160000
END:STANDARD
BEGIN:DAYLIGHT
TZOFFSETFROM:+1000
TZOFFSETTO:+1100
TZNAME:AEDT
DTSTART:20251004T160000
END:DAYLIGHT
BEGIN:STANDARD
TZOFFSETFROM:+1100
TZOFFSETTO:+1000
TZNAME:AEST
DTSTART:20260404T160000
END:STANDARD
BEGIN:DAYLIGHT
TZOFFSETFROM:+1000
TZOFFSETTO:+1100
TZNAME:AEDT
DTSTART:20261003T160000
END:DAYLIGHT
END:VTIMEZONE
BEGIN:VEVENT
DTSTART;TZID=Australia/Sydney:20250925T170000
DTEND;TZID=Australia/Sydney:20250925T210000
DTSTAMP:20260424T214121
CREATED:20250919T020749Z
LAST-MODIFIED:20260422T050317Z
UID:14583-1758819600-1758834000@clubparkview.com.au
SUMMARY:THURSDAY $22 COMBO NIGHT
DESCRIPTION:
URL:https://clubparkview.com.au/event/thursday-22-combo-night/2025-09-25/
CATEGORIES:Eat
ATTACH;FMTTYPE=image/jpeg:https://clubparkview.com.au/wp-content/uploads/2025/09/CP-NIGHTLY-FOOD-SPECIALS-THURSDAY-22-COMBO-NIGHT-WEB-TILE.jpg
END:VEVENT
BEGIN:VEVENT
DTSTART;TZID=Australia/Sydney:20250924T170000
DTEND;TZID=Australia/Sydney:20250924T210000
DTSTAMP:20260424T214121
CREATED:20250612T012121Z
LAST-MODIFIED:20250919T024558Z
UID:13616-1758733200-1758747600@clubparkview.com.au
SUMMARY:WEDNESDAY $16 PASTA NIGHT
DESCRIPTION:
URL:https://clubparkview.com.au/event/wednesday-16-pasta-night/2025-09-24/
CATEGORIES:Eat
ATTACH;FMTTYPE=image/jpeg:https://clubparkview.com.au/wp-content/uploads/2025/06/CP-NIGHTLY-FOOD-SPECIALS-WEDNESDAY-16-PASTA-NIGHT-WEB-TILE.jpg
END:VEVENT
BEGIN:VEVENT
DTSTART;TZID=Australia/Sydney:20250922T170000
DTEND;TZID=Australia/Sydney:20250922T210000
DTSTAMP:20260424T214121
CREATED:20250918T011422Z
LAST-MODIFIED:20260422T045727Z
UID:14543-1758560400-1758574800@clubparkview.com.au
SUMMARY:MONDAY LUNCH FOR DINNER FROM $14.90
DESCRIPTION:
URL:https://clubparkview.com.au/event/monday-lunch-for-dinner-from-14-90/2025-09-22/
CATEGORIES:Eat
ATTACH;FMTTYPE=image/jpeg:https://clubparkview.com.au/wp-content/uploads/2025/09/CP-NIGHTLY-FOOD-SPECIALS-MONDAY-DINNER-FROM-14.90-WEB-TILE.jpg
END:VEVENT
BEGIN:VEVENT
DTSTART;TZID=Australia/Sydney:20250921T123000
DTEND;TZID=Australia/Sydney:20250921T170000
DTSTAMP:20260424T214121
CREATED:20250910T052000Z
LAST-MODIFIED:20250910T052000Z
UID:14477-1758457800-1758474000@clubparkview.com.au
SUMMARY:SA PA PAYDAY
DESCRIPTION:
URL:https://clubparkview.com.au/event/sa-pa-payday/
CATEGORIES:Gaming
ATTACH;FMTTYPE=image/jpeg:https://clubparkview.com.au/wp-content/uploads/2025/09/PASSPORT-WIN-17K-VIETNAM-SEPTEMBER-SA-PA-PAYDAY-WEB-TILE.jpg
END:VEVENT
BEGIN:VEVENT
DTSTART;TZID=Australia/Sydney:20250920T130000
DTEND;TZID=Australia/Sydney:20250920T223000
DTSTAMP:20260424T214121
CREATED:20250910T051804Z
LAST-MODIFIED:20250910T051804Z
UID:14473-1758373200-1758407400@clubparkview.com.au
SUMMARY:NINH BINH BONUS
DESCRIPTION:
URL:https://clubparkview.com.au/event/ninh-binh-bonus/
CATEGORIES:Gaming
ATTACH;FMTTYPE=image/jpeg:https://clubparkview.com.au/wp-content/uploads/2025/09/PASSPORT-WIN-17K-VIETNAM-SEPTEMBER-NINH-BINH-BONUS-WEB-TILE.jpg
END:VEVENT
BEGIN:VEVENT
DTSTART;TZID=Australia/Sydney:20250919T130000
DTEND;TZID=Australia/Sydney:20250919T223000
DTSTAMP:20260424T214121
CREATED:20250910T051545Z
LAST-MODIFIED:20250910T051545Z
UID:14469-1758286800-1758321000@clubparkview.com.au
SUMMARY:HUE HARVEST
DESCRIPTION:
URL:https://clubparkview.com.au/event/hue-harvest/
CATEGORIES:Gaming
ATTACH;FMTTYPE=image/jpeg:https://clubparkview.com.au/wp-content/uploads/2025/09/PASSPORT-WIN-17K-VIETNAM-SEPTEMBER-HUE-HARVEST-WEB-TILE.jpg
END:VEVENT
BEGIN:VEVENT
DTSTART;TZID=Australia/Sydney:20250915T093000
DTEND;TZID=Australia/Sydney:20250915T130000
DTSTAMP:20260424T214121
CREATED:20250910T042953Z
LAST-MODIFIED:20250910T042953Z
UID:14433-1757928600-1757941200@clubparkview.com.au
SUMMARY:Brand New Bingo
DESCRIPTION:
URL:https://clubparkview.com.au/event/brand-new-bingo/2025-09-15/
CATEGORIES:Entertainment
ATTACH;FMTTYPE=image/jpeg:https://clubparkview.com.au/wp-content/uploads/2025/09/CP-BINGO-BRAND-NEW-WEB-TILE.jpg
END:VEVENT
BEGIN:VEVENT
DTSTART;TZID=Australia/Sydney:20250914T123000
DTEND;TZID=Australia/Sydney:20250914T170000
DTSTAMP:20260424T214121
CREATED:20250910T051142Z
LAST-MODIFIED:20250910T051142Z
UID:14462-1757853000-1757869200@clubparkview.com.au
SUMMARY:HOI AN HAUL
DESCRIPTION:
URL:https://clubparkview.com.au/event/hoi-an-haul/
CATEGORIES:Gaming
ATTACH;FMTTYPE=image/jpeg:https://clubparkview.com.au/wp-content/uploads/2025/09/PASSPORT-WIN-17K-VIETNAM-SEPTEMBER-HOI-AN-HAUL-WEB-TILE.jpg
END:VEVENT
BEGIN:VEVENT
DTSTART;TZID=Australia/Sydney:20250913T130000
DTEND;TZID=Australia/Sydney:20250913T223000
DTSTAMP:20260424T214121
CREATED:20250910T050849Z
LAST-MODIFIED:20250910T051238Z
UID:14458-1757768400-1757802600@clubparkview.com.au
SUMMARY:SAIGON SCORE
DESCRIPTION:
URL:https://clubparkview.com.au/event/saigon-score/
CATEGORIES:Gaming
ATTACH;FMTTYPE=image/jpeg:https://clubparkview.com.au/wp-content/uploads/2025/09/PASSPORT-WIN-17K-VIETNAM-SEPTEMBER-SAIGON-SCORE-WEB-TILE.jpg
END:VEVENT
BEGIN:VEVENT
DTSTART;TZID=Australia/Sydney:20250912T130000
DTEND;TZID=Australia/Sydney:20250912T223000
DTSTAMP:20260424T214121
CREATED:20250910T050600Z
LAST-MODIFIED:20250910T051206Z
UID:14454-1757682000-1757716200@clubparkview.com.au
SUMMARY:PHU QUOC ISLAND CASH
DESCRIPTION:
URL:https://clubparkview.com.au/event/phu-quoc-island-cash/
CATEGORIES:Gaming
ATTACH;FMTTYPE=image/jpeg:https://clubparkview.com.au/wp-content/uploads/2025/09/PASSPORT-WIN-17K-VIETNAM-SEPTEMBER-PHU-QUOK-ISLAND-CASH-WEB-TILE.jpg
END:VEVENT
BEGIN:VEVENT
DTSTART;TZID=Australia/Sydney:20250911T110000
DTEND;TZID=Australia/Sydney:20250911T140000
DTSTAMP:20260424T214121
CREATED:20250910T015921Z
LAST-MODIFIED:20250910T042127Z
UID:14417-1757588400-1757599200@clubparkview.com.au
SUMMARY:Morning Melodies
DESCRIPTION:
URL:https://clubparkview.com.au/event/morning-melodies/2025-09-11/
CATEGORIES:Eat,Entertainment,Live Shows
ATTACH;FMTTYPE=image/jpeg:https://clubparkview.com.au/wp-content/uploads/2025/09/MORNING-MELODIES-WEB-TILE-380-x-480-px.jpg
END:VEVENT
BEGIN:VEVENT
DTSTART;TZID=Australia/Sydney:20250910T190000
DTEND;TZID=Australia/Sydney:20250910T213000
DTSTAMP:20260424T214121
CREATED:20250905T051338Z
LAST-MODIFIED:20260330T053657Z
UID:14354-1757530800-1757539800@clubparkview.com.au
SUMMARY:$15\,000 MEMBER'S JACKPOT
DESCRIPTION:
URL:https://clubparkview.com.au/event/15000-members-jackpot-3/2025-09-10/
CATEGORIES:Drink,Eat,Gaming
ATTACH;FMTTYPE=image/jpeg:https://clubparkview.com.au/wp-content/uploads/2025/09/MEMBERS-15000-750-GUARANTEED-WEB-TILE-380-x-480-px.jpg
END:VEVENT
BEGIN:VEVENT
DTSTART;TZID=Australia/Sydney:20250905T130000
DTEND;TZID=Australia/Sydney:20250905T223000
DTSTAMP:20260424T214121
CREATED:20250829T010157Z
LAST-MODIFIED:20250829T010157Z
UID:14314-1757077200-1757111400@clubparkview.com.au
SUMMARY:PETAL POWER
DESCRIPTION:
URL:https://clubparkview.com.au/event/petal-power/2025-09-05/
CATEGORIES:Gaming
ATTACH;FMTTYPE=image/jpeg:https://clubparkview.com.au/wp-content/uploads/2025/08/PETAL-POWER-SEPTEMBER-WEB-TILE.jpg
END:VEVENT
BEGIN:VEVENT
DTSTART;TZID=Australia/Sydney:20250904T183000
DTEND;TZID=Australia/Sydney:20250904T230000
DTSTAMP:20260424T214121
CREATED:20250829T005211Z
LAST-MODIFIED:20251223T230921Z
UID:14298-1757010600-1757026800@clubparkview.com.au
SUMMARY:JACARANDA REWARDS
DESCRIPTION:
URL:https://clubparkview.com.au/event/jacaranda-rewards-2/2025-09-04/
CATEGORIES:Gaming
ATTACH;FMTTYPE=image/jpeg:https://clubparkview.com.au/wp-content/uploads/2025/08/JACARANDA-REWARDS-SEPTEMBER-2025-WEB-TILE-380-x-480-px.jpg
END:VEVENT
BEGIN:VEVENT
DTSTART;TZID=Australia/Sydney:20250904T120000
DTEND;TZID=Australia/Sydney:20250904T213000
DTSTAMP:20260424T214121
CREATED:20250904T034424Z
LAST-MODIFIED:20250904T034424Z
UID:14348-1756987200-1757021400@clubparkview.com.au
SUMMARY:FATHER'S DAY $3K CASH
DESCRIPTION:
URL:https://clubparkview.com.au/event/fathers-day-3k-cash/
CATEGORIES:Gaming
ATTACH;FMTTYPE=image/jpeg:https://clubparkview.com.au/wp-content/uploads/2025/09/FATHERS-DAY-CASH-GAMING-PROMO-WEB-TILE-380-x-480-px.jpg
END:VEVENT
BEGIN:VEVENT
DTSTART;TZID=Australia/Sydney:20250904T100000
DTEND;TZID=Australia/Sydney:20250914T210000
DTSTAMP:20260424T214121
CREATED:20250908T033539Z
LAST-MODIFIED:20250908T033539Z
UID:14402-1756980000-1757883600@clubparkview.com.au
SUMMARY:VIETNAM CULTURE WEEK - PASSPORT EVENT
DESCRIPTION:
URL:https://clubparkview.com.au/event/vietnam-culture-week-passport-event/
CATEGORIES:Drink,Eat,Entertainment,Gaming
ATTACH;FMTTYPE=image/jpeg:https://clubparkview.com.au/wp-content/uploads/2025/09/PARKVIEW-PASSPORT-SEPTEMBER-EVENTS-VIETNAM-WEB-TILE-380-x-480-px.jpg
END:VEVENT
BEGIN:VEVENT
DTSTART;TZID=Australia/Sydney:20250903T220000
DTEND;TZID=Australia/Sydney:20250903T230000
DTSTAMP:20260424T214121
CREATED:20250829T003118Z
LAST-MODIFIED:20251121T033935Z
UID:14282-1756936800-1756940400@clubparkview.com.au
SUMMARY:THE BONUS ROUND
DESCRIPTION:
URL:https://clubparkview.com.au/event/the-bonus-round/2025-09-03/
CATEGORIES:Gaming
ATTACH;FMTTYPE=image/jpeg:https://clubparkview.com.au/wp-content/uploads/2025/08/THE-BONUS-ROUND-WEB-TILE-380-x-480-px.jpg
END:VEVENT
BEGIN:VEVENT
DTSTART;TZID=Australia/Sydney:20250901T190000
DTEND;TZID=Australia/Sydney:20250901T230000
DTSTAMP:20260424T214121
CREATED:20250829T000451Z
LAST-MODIFIED:20250829T000451Z
UID:14246-1756753200-1756767600@clubparkview.com.au
SUMMARY:BARNYARD BONANZA
DESCRIPTION:
URL:https://clubparkview.com.au/event/barnyard-bonanza-2/2025-09-01/
CATEGORIES:Gaming
ATTACH;FMTTYPE=image/jpeg:https://clubparkview.com.au/wp-content/uploads/2025/08/BARNYARD-BONANZA-SEPTEMBER-WEB-TILE.jpg
END:VEVENT
BEGIN:VEVENT
DTSTART;TZID=Australia/Sydney:20250822T080000
DTEND;TZID=Australia/Sydney:20250822T210000
DTSTAMP:20260424T214121
CREATED:20250822T001037Z
LAST-MODIFIED:20250822T050345Z
UID:14135-1755849600-1755896400@clubparkview.com.au
SUMMARY:FATHER'S DAY BUFFET BREAKFAST
DESCRIPTION:
URL:https://clubparkview.com.au/event/fathers-day-buffet-breakfast/
CATEGORIES:Drink,Eat,Entertainment
ATTACH;FMTTYPE=image/jpeg:https://clubparkview.com.au/wp-content/uploads/2025/08/FATHERS-DAY-BUFFET-BREAKFAST-WEB-TILE-380-x-480-px.jpg
END:VEVENT
BEGIN:VEVENT
DTSTART;TZID=Australia/Sydney:20250811T100000
DTEND;TZID=Australia/Sydney:20250831T013000
DTSTAMP:20260424T214121
CREATED:20250821T033700Z
LAST-MODIFIED:20250821T034216Z
UID:14129-1754906400-1756603800@clubparkview.com.au
SUMMARY:$24K PACIFIC ISLANDS GIVEAWAY
DESCRIPTION:
URL:https://clubparkview.com.au/event/24k-pacific-islands-giveaway/
CATEGORIES:Gaming
ATTACH;FMTTYPE=image/jpeg:https://clubparkview.com.au/wp-content/uploads/2025/08/PASSPORT-WIN-24K-THE-PACIFIC-ISLANDS-AUGUST-COMPOSITE-WEB-TILE.jpg
END:VEVENT
BEGIN:VEVENT
DTSTART;TZID=Australia/Sydney:20250807T100000
DTEND;TZID=Australia/Sydney:20250817T210000
DTSTAMP:20260424T214121
CREATED:20250730T231621Z
LAST-MODIFIED:20250731T004021Z
UID:14016-1754560800-1755464400@clubparkview.com.au
SUMMARY:PACIFIC ISLANDS CULUTRE WEEK - PASSPORT EVENT
DESCRIPTION:
URL:https://clubparkview.com.au/event/pacific-islands-culutre-week-passport-event/
CATEGORIES:Drink,Eat,Entertainment
ATTACH;FMTTYPE=image/jpeg:https://clubparkview.com.au/wp-content/uploads/2025/07/PARKVIEW-PASSPORT-AUGUST-EVENTS-THE-PACIFIC-ISLANDS-WEB-TILE-380-x-480-px.jpg
END:VEVENT
BEGIN:VEVENT
DTSTART;TZID=Australia/Sydney:20250714T100000
DTEND;TZID=Australia/Sydney:20250801T013000
DTSTAMP:20260424T214121
CREATED:20250711T042559Z
LAST-MODIFIED:20250711T042907Z
UID:13898-1752487200-1754011800@clubparkview.com.au
SUMMARY:$15K SPAIN GIVEAWAY
DESCRIPTION:
URL:https://clubparkview.com.au/event/15k-spain-giveaway/
CATEGORIES:Gaming
ATTACH;FMTTYPE=image/jpeg:https://clubparkview.com.au/wp-content/uploads/2025/07/PASSPORT-WIN-15K-SPAIN-WEB-TILE-380-x-480-px.jpg
END:VEVENT
BEGIN:VEVENT
DTSTART;TZID=Australia/Sydney:20250710T100000
DTEND;TZID=Australia/Sydney:20250719T100000
DTSTAMP:20260424T214121
CREATED:20250628T015050Z
LAST-MODIFIED:20250628T015402Z
UID:13816-1752141600-1752919200@clubparkview.com.au
SUMMARY:SPANISH CULTURE WEEK - PASSPORT EVENT
DESCRIPTION:
URL:https://clubparkview.com.au/event/spanish-culture-week-passport-event/
CATEGORIES:Drink,Eat,Entertainment,Live Shows
ATTACH;FMTTYPE=image/jpeg:https://clubparkview.com.au/wp-content/uploads/2025/06/PASSPORT-JULY-EVENTS-WEB-TILE-380-x-480-px.jpg
END:VEVENT
BEGIN:VEVENT
DTSTART;TZID=Australia/Sydney:20250707T130000
DTEND;TZID=Australia/Sydney:20250707T160000
DTSTAMP:20260424T214121
CREATED:20250618T063047Z
LAST-MODIFIED:20250618T063047Z
UID:13752-1751893200-1751904000@clubparkview.com.au
SUMMARY:AFTERNOON DELIGHTS
DESCRIPTION:
URL:https://clubparkview.com.au/event/afternoon-delights/2025-07-07/
CATEGORIES:Gaming
ATTACH;FMTTYPE=image/jpeg:https://clubparkview.com.au/wp-content/uploads/2025/06/AFTERNOON-DELIGHTS-WEB-TILE-380-x-480-px.jpg
END:VEVENT
BEGIN:VEVENT
DTSTART;TZID=Australia/Sydney:20250706T130000
DTEND;TZID=Australia/Sydney:20250706T170000
DTSTAMP:20260424T214121
CREATED:20250618T062526Z
LAST-MODIFIED:20250828T235106Z
UID:13740-1751806800-1751821200@clubparkview.com.au
SUMMARY:THE LIGHTNING ROUND
DESCRIPTION:
URL:https://clubparkview.com.au/event/the-lightning-round-2/2025-07-06/
CATEGORIES:Gaming
ATTACH;FMTTYPE=image/jpeg:https://clubparkview.com.au/wp-content/uploads/2025/06/THE-LIGHTNING-ROUND-WEB-TILE-380-x-480-px.jpg
END:VEVENT
BEGIN:VEVENT
DTSTART;TZID=Australia/Sydney:20250705T180000
DTEND;TZID=Australia/Sydney:20250705T180000
DTSTAMP:20260424T214121
CREATED:20250618T062155Z
LAST-MODIFIED:20250714T055058Z
UID:13725-1751738400-1751738400@clubparkview.com.au
SUMMARY:LUCKY DUCKS
DESCRIPTION:
URL:https://clubparkview.com.au/event/lucky-ducks/2025-07-05/
CATEGORIES:Gaming
ATTACH;FMTTYPE=image/jpeg:https://clubparkview.com.au/wp-content/uploads/2025/06/LUCKY-DUCKS-WEB-TILE-380-x-480-px.jpg
END:VEVENT
BEGIN:VEVENT
DTSTART;TZID=Australia/Sydney:20250704T183000
DTEND;TZID=Australia/Sydney:20250704T230000
DTSTAMP:20260424T214121
CREATED:20250618T061845Z
LAST-MODIFIED:20250714T055026Z
UID:13713-1751653800-1751670000@clubparkview.com.au
SUMMARY:FIERY FIESTA
DESCRIPTION:
URL:https://clubparkview.com.au/event/fiery-fiesta/2025-07-04/
CATEGORIES:Gaming
ATTACH;FMTTYPE=image/jpeg:https://clubparkview.com.au/wp-content/uploads/2025/06/FIERY-FIESTA-WEB-TILE-380-x-480-px.jpg
END:VEVENT
BEGIN:VEVENT
DTSTART;TZID=Australia/Sydney:20250704T100000
DTEND;TZID=Australia/Sydney:20250706T210000
DTSTAMP:20260424T214121
CREATED:20250702T040635Z
LAST-MODIFIED:20250702T040635Z
UID:13848-1751623200-1751835600@clubparkview.com.au
SUMMARY:4TH OF JULY
DESCRIPTION:
URL:https://clubparkview.com.au/event/4th-of-july/
CATEGORIES:Drink,Eat,Entertainment
ATTACH;FMTTYPE=image/jpeg:https://clubparkview.com.au/wp-content/uploads/2025/07/FOURTH-OF-JULY-WEB-TILE-380-x-480-px.jpg
END:VEVENT
BEGIN:VEVENT
DTSTART;TZID=Australia/Sydney:20250703T190000
DTEND;TZID=Australia/Sydney:20250703T220000
DTSTAMP:20260424T214121
CREATED:20250618T055149Z
LAST-MODIFIED:20250714T055113Z
UID:13701-1751569200-1751580000@clubparkview.com.au
SUMMARY:WHEEL OF FORTUNE
DESCRIPTION:
URL:https://clubparkview.com.au/event/wheel-of-fortune/2025-07-03/
CATEGORIES:Drink,Eat,Gaming
ATTACH;FMTTYPE=image/jpeg:https://clubparkview.com.au/wp-content/uploads/2025/06/WHEEL-OF-FORTUNE-WEB-TILE-380-x-480-px-.jpg
END:VEVENT
BEGIN:VEVENT
DTSTART;TZID=Australia/Sydney:20250701T190000
DTEND;TZID=Australia/Sydney:20250701T220000
DTSTAMP:20260424T214121
CREATED:20250618T054625Z
LAST-MODIFIED:20250618T054625Z
UID:13683-1751396400-1751407200@clubparkview.com.au
SUMMARY:JACARANDA BONUS
DESCRIPTION:
URL:https://clubparkview.com.au/event/jacaranda-bonus-2/2025-07-01/
CATEGORIES:Gaming
ATTACH;FMTTYPE=image/jpeg:https://clubparkview.com.au/wp-content/uploads/2025/06/JACARANDA-BONUS-2025-WEB-TILE-380-x-480-px.jpg
END:VEVENT
END:VCALENDAR