BEGIN:VCALENDAR
VERSION:2.0
PRODID:-//Club Parkview - ECPv6.15.16.1//NONSGML v1.0//EN
CALSCALE:GREGORIAN
METHOD:PUBLISH
X-WR-CALNAME:Club Parkview
X-ORIGINAL-URL:https://clubparkview.com.au
X-WR-CALDESC:Events for Club Parkview
REFRESH-INTERVAL;VALUE=DURATION:PT1H
X-Robots-Tag:noindex
X-PUBLISHED-TTL:PT1H
BEGIN:VTIMEZONE
TZID:Australia/Sydney
BEGIN:STANDARD
TZOFFSETFROM:+1100
TZOFFSETTO:+1000
TZNAME:AEST
DTSTART:20240406T160000
END:STANDARD
BEGIN:DAYLIGHT
TZOFFSETFROM:+1000
TZOFFSETTO:+1100
TZNAME:AEDT
DTSTART:20241005T160000
END:DAYLIGHT
BEGIN:STANDARD
TZOFFSETFROM:+1100
TZOFFSETTO:+1000
TZNAME:AEST
DTSTART:20250405T160000
END:STANDARD
BEGIN:DAYLIGHT
TZOFFSETFROM:+1000
TZOFFSETTO:+1100
TZNAME:AEDT
DTSTART:20251004T160000
END:DAYLIGHT
BEGIN:STANDARD
TZOFFSETFROM:+1100
TZOFFSETTO:+1000
TZNAME:AEST
DTSTART:20260404T160000
END:STANDARD
BEGIN:DAYLIGHT
TZOFFSETFROM:+1000
TZOFFSETTO:+1100
TZNAME:AEDT
DTSTART:20261003T160000
END:DAYLIGHT
END:VTIMEZONE
BEGIN:VEVENT
DTSTART;TZID=Australia/Sydney:20250908T100000
DTEND;TZID=Australia/Sydney:20250927T230000
DTSTAMP:20260422T213354
CREATED:20250910T045904Z
LAST-MODIFIED:20250910T045905Z
UID:14450-1757325600-1759014000@clubparkview.com.au
SUMMARY:$17K VIETNAM GIVEAWAY
DESCRIPTION:
URL:https://clubparkview.com.au/event/17k-vietnam-giveaway/
CATEGORIES:Gaming
ATTACH;FMTTYPE=image/jpeg:https://clubparkview.com.au/wp-content/uploads/2025/09/PASSPORT-WIN-17K-VIETNAM-SEPTEMBER-COMPOSITE-WEB-TILE.jpg
END:VEVENT
BEGIN:VEVENT
DTSTART;VALUE=DATE:20250919
DTEND;VALUE=DATE:20251007
DTSTAMP:20260422T213354
CREATED:20250919T004812Z
LAST-MODIFIED:20250919T024742Z
UID:14563-1758240000-1759795199@clubparkview.com.au
SUMMARY:KIDS EAT FREE ALL SCHOOL HOLIDAYS
DESCRIPTION:
URL:https://clubparkview.com.au/event/kids-eat-free-all-school-holidays/
CATEGORIES:Eat
ATTACH;FMTTYPE=image/jpeg:https://clubparkview.com.au/wp-content/uploads/2025/09/CP-NIGHTLY-FOOD-SPECIALS-SCHOOL-HOLIDAYS-KIDS-EAT-FREE-WEB-TILE.jpg
END:VEVENT
BEGIN:VEVENT
DTSTART;TZID=Australia/Sydney:20250922T170000
DTEND;TZID=Australia/Sydney:20250922T210000
DTSTAMP:20260422T213354
CREATED:20250918T011422Z
LAST-MODIFIED:20260422T045727Z
UID:14543-1758560400-1758574800@clubparkview.com.au
SUMMARY:MONDAY LUNCH FOR DINNER FROM $14.90
DESCRIPTION:
URL:https://clubparkview.com.au/event/monday-lunch-for-dinner-from-14-90/2025-09-22/
CATEGORIES:Eat
ATTACH;FMTTYPE=image/jpeg:https://clubparkview.com.au/wp-content/uploads/2025/09/CP-NIGHTLY-FOOD-SPECIALS-MONDAY-DINNER-FROM-14.90-WEB-TILE.jpg
END:VEVENT
BEGIN:VEVENT
DTSTART;TZID=Australia/Sydney:20250924T170000
DTEND;TZID=Australia/Sydney:20250924T210000
DTSTAMP:20260422T213354
CREATED:20250612T012121Z
LAST-MODIFIED:20250919T024558Z
UID:13616-1758733200-1758747600@clubparkview.com.au
SUMMARY:WEDNESDAY $16 PASTA NIGHT
DESCRIPTION:
URL:https://clubparkview.com.au/event/wednesday-16-pasta-night/2025-09-24/
CATEGORIES:Eat
ATTACH;FMTTYPE=image/jpeg:https://clubparkview.com.au/wp-content/uploads/2025/06/CP-NIGHTLY-FOOD-SPECIALS-WEDNESDAY-16-PASTA-NIGHT-WEB-TILE.jpg
END:VEVENT
BEGIN:VEVENT
DTSTART;TZID=Australia/Sydney:20250925T170000
DTEND;TZID=Australia/Sydney:20250925T210000
DTSTAMP:20260422T213354
CREATED:20250919T020749Z
LAST-MODIFIED:20260422T050317Z
UID:14583-1758819600-1758834000@clubparkview.com.au
SUMMARY:THURSDAY $22 COMBO NIGHT
DESCRIPTION:
URL:https://clubparkview.com.au/event/thursday-22-combo-night/2025-09-25/
CATEGORIES:Eat
ATTACH;FMTTYPE=image/jpeg:https://clubparkview.com.au/wp-content/uploads/2025/09/CP-NIGHTLY-FOOD-SPECIALS-THURSDAY-22-COMBO-NIGHT-WEB-TILE.jpg
END:VEVENT
BEGIN:VEVENT
DTSTART;TZID=Australia/Sydney:20250926T130000
DTEND;TZID=Australia/Sydney:20250926T223000
DTSTAMP:20260422T213354
CREATED:20250910T053031Z
LAST-MODIFIED:20250910T053031Z
UID:14481-1758891600-1758925800@clubparkview.com.au
SUMMARY:HA LONG BAY BONANZA
DESCRIPTION:
URL:https://clubparkview.com.au/event/ha-long-bay-bonanza/
CATEGORIES:Gaming
ATTACH;FMTTYPE=image/jpeg:https://clubparkview.com.au/wp-content/uploads/2025/09/PASSPORT-WIN-17K-VIETNAM-SEPTEMBER-HA-LONG-BAY-BONANZA-WEB-TILE.jpg
END:VEVENT
BEGIN:VEVENT
DTSTART;TZID=Australia/Sydney:20250927T130000
DTEND;TZID=Australia/Sydney:20250927T223000
DTSTAMP:20260422T213354
CREATED:20250910T053305Z
LAST-MODIFIED:20250910T053305Z
UID:14485-1758978000-1759012200@clubparkview.com.au
SUMMARY:HANOI MAJOR DRAW
DESCRIPTION:
URL:https://clubparkview.com.au/event/hanoi-major-draw/
CATEGORIES:Gaming
ATTACH;FMTTYPE=image/jpeg:https://clubparkview.com.au/wp-content/uploads/2025/09/PASSPORT-WIN-17K-VIETNAM-SEPTEMBER-HANOI-MAJOR-DRAW-WEB-TILE.jpg
END:VEVENT
BEGIN:VEVENT
DTSTART;TZID=Australia/Sydney:20250927T200000
DTEND;TZID=Australia/Sydney:20250927T230000
DTSTAMP:20260422T213354
CREATED:20250904T011007Z
LAST-MODIFIED:20250904T011007Z
UID:14343-1759003200-1759014000@clubparkview.com.au
SUMMARY:KINGS OF VEGAS - TRIBUTE SHOW
DESCRIPTION:
URL:https://clubparkview.com.au/event/kings-of-vegas-tribute-show/
CATEGORIES:Entertainment,Live Shows
ATTACH;FMTTYPE=image/jpeg:https://clubparkview.com.au/wp-content/uploads/2025/09/KINGS-OF-VEGAS-WEB-TILE-380-x-480-px.jpg
END:VEVENT
BEGIN:VEVENT
DTSTART;TZID=Australia/Sydney:20250928T170000
DTEND;TZID=Australia/Sydney:20250928T210000
DTSTAMP:20260422T213354
CREATED:20250919T024439Z
LAST-MODIFIED:20260422T050146Z
UID:14605-1759078800-1759093200@clubparkview.com.au
SUMMARY:SUNDAY $16 PARMI NIGHT
DESCRIPTION:
URL:https://clubparkview.com.au/event/sunday-16-parmi-night/2025-09-28/
CATEGORIES:Eat
ATTACH;FMTTYPE=image/jpeg:https://clubparkview.com.au/wp-content/uploads/2025/09/CP-NIGHTLY-FOOD-SPECIALS-SUNDAY-16-PARMI-NIGHT-WEB-TILE.jpg
END:VEVENT
END:VCALENDAR